BEGIN:VCALENDAR
VERSION:2.0
PRODID:-//Tukios.com/
BEGIN:VEVENT
UID:414fef7c-9461-45bb-90d2-63ce72216434@www.familyandfriendsfh.com
DTSTAMP:20260423T015215Z
DTSTART:20260425T160000Z
DTEND:20260425T180000Z
SUMMARY:Visitation
DESCRIPTION:
URL:https://www.familyandfriendsfh.com/obituaries/michael-sosbe
LOCATION: 9700 Old State Rd 55 N  Wingate IN 47994
GEO:40.1792064;-87.0787787
END:VEVENT
END:VCALENDAR