BEGIN:VCALENDAR
VERSION:2.0
PRODID:-//Tukios.com/
BEGIN:VEVENT
UID:b6687ca2-3220-49b9-ad7e-7a2d8e7262a6@www.familyandfriendsfh.com
DTSTAMP:20260423T015614Z
DTSTART:20260425T180000Z
DTEND:20260425T190000Z
SUMMARY:Funeral Service
DESCRIPTION:
URL:https://www.familyandfriendsfh.com/obituaries/michael-sosbe
LOCATION: 9700 Old State Rd 55 N  Wingate IN 47994
GEO:40.1792064;-87.0787787
END:VEVENT
END:VCALENDAR